BEGIN:VCALENDAR
VERSION:2.0
PRODID:-//CMSA - ECPv6.15.18//NONSGML v1.0//EN
CALSCALE:GREGORIAN
METHOD:PUBLISH
X-WR-CALNAME:CMSA
X-ORIGINAL-URL:https://cmsa.fas.harvard.edu
X-WR-CALDESC:Events for CMSA
REFRESH-INTERVAL;VALUE=DURATION:PT1H
X-Robots-Tag:noindex
X-PUBLISHED-TTL:PT1H
BEGIN:VTIMEZONE
TZID:America/New_York
BEGIN:DAYLIGHT
TZOFFSETFROM:-0500
TZOFFSETTO:-0400
TZNAME:EDT
DTSTART:20190310T070000
END:DAYLIGHT
BEGIN:STANDARD
TZOFFSETFROM:-0400
TZOFFSETTO:-0500
TZNAME:EST
DTSTART:20191103T060000
END:STANDARD
BEGIN:DAYLIGHT
TZOFFSETFROM:-0500
TZOFFSETTO:-0400
TZNAME:EDT
DTSTART:20200308T070000
END:DAYLIGHT
BEGIN:STANDARD
TZOFFSETFROM:-0400
TZOFFSETTO:-0500
TZNAME:EST
DTSTART:20201101T060000
END:STANDARD
BEGIN:DAYLIGHT
TZOFFSETFROM:-0500
TZOFFSETTO:-0400
TZNAME:EDT
DTSTART:20210314T070000
END:DAYLIGHT
BEGIN:STANDARD
TZOFFSETFROM:-0400
TZOFFSETTO:-0500
TZNAME:EST
DTSTART:20211107T060000
END:STANDARD
END:VTIMEZONE
BEGIN:VEVENT
DTSTART;TZID=America/New_York:20200515T110000
DTEND;TZID=America/New_York:20200515T110000
DTSTAMP:20260422T104950
CREATED:20240209T103347Z
LAST-MODIFIED:20240209T104016Z
UID:10001829-1589540400-1589540400@cmsa.fas.harvard.edu
SUMMARY:5/15/2020 General Relativity Seminar
DESCRIPTION:
URL:https://cmsa.fas.harvard.edu/event/5-15-2020-general-relativity-seminar/
CATEGORIES:Seminars
END:VEVENT
BEGIN:VEVENT
DTSTART;TZID=America/New_York:20200515T130000
DTEND;TZID=America/New_York:20200515T140000
DTSTAMP:20260422T104950
CREATED:20240209T105339Z
LAST-MODIFIED:20240209T105339Z
UID:10001835-1589547600-1589551200@cmsa.fas.harvard.edu
SUMMARY:5/15/2020 Math Physics Seminar
DESCRIPTION:
URL:https://cmsa.fas.harvard.edu/event/5-15-2020-math-physics-seminar/
CATEGORIES:Seminars
END:VEVENT
END:VCALENDAR