BEGIN:VCALENDAR
VERSION:2.0
PRODID:-//CMSA - ECPv6.15.18//NONSGML v1.0//EN
CALSCALE:GREGORIAN
METHOD:PUBLISH
X-ORIGINAL-URL:https://cmsa.fas.harvard.edu
X-WR-CALDESC:Events for CMSA
REFRESH-INTERVAL;VALUE=DURATION:PT1H
X-Robots-Tag:noindex
X-PUBLISHED-TTL:PT1H
BEGIN:VTIMEZONE
TZID:America/New_York
BEGIN:DAYLIGHT
TZOFFSETFROM:-0500
TZOFFSETTO:-0400
TZNAME:EDT
DTSTART:20190310T070000
END:DAYLIGHT
BEGIN:STANDARD
TZOFFSETFROM:-0400
TZOFFSETTO:-0500
TZNAME:EST
DTSTART:20191103T060000
END:STANDARD
BEGIN:DAYLIGHT
TZOFFSETFROM:-0500
TZOFFSETTO:-0400
TZNAME:EDT
DTSTART:20200308T070000
END:DAYLIGHT
BEGIN:STANDARD
TZOFFSETFROM:-0400
TZOFFSETTO:-0500
TZNAME:EST
DTSTART:20201101T060000
END:STANDARD
BEGIN:DAYLIGHT
TZOFFSETFROM:-0500
TZOFFSETTO:-0400
TZNAME:EDT
DTSTART:20210314T070000
END:DAYLIGHT
BEGIN:STANDARD
TZOFFSETFROM:-0400
TZOFFSETTO:-0500
TZNAME:EST
DTSTART:20211107T060000
END:STANDARD
END:VTIMEZONE
BEGIN:VEVENT
DTSTART;TZID=America/New_York:20200522T123000
DTEND;TZID=America/New_York:20200522T133000
DTSTAMP:20260421T020934
CREATED:20230715T082921Z
LAST-MODIFIED:20240227T091238Z
UID:10000135-1590150600-1590154200@cmsa.fas.harvard.edu
SUMMARY:CMSA Math-Science Literature Lecture: From string theory and Moonshine to vertex algebras
DESCRIPTION:Bong Lian (Brandeis) \nTitle: From string theory and Moonshine to vertex algebras \nAbstract: This is a brief survey of the early historical development of vertex algebras\, beginning in the seventies from Physics and Representation Theory. We shall also discuss some of the ideas that led to various early formulations of the theory’s foundation\, and their relationships\, as well as some of the subsequent and recent developments. The lecture is aimed at a general audience. \nSlides | Video
URL:https://cmsa.fas.harvard.edu/event/cmsa-math-science-literature-lecture_lian/
LOCATION:Virtual
CATEGORIES:Event,Math Science Literature Lecture Series
ATTACH;FMTTYPE=image/jpeg:https://cmsa.fas.harvard.edu/media/Lecture_Lian-pdf.jpeg
END:VEVENT
BEGIN:VEVENT
DTSTART;TZID=America/New_York:20200522T123000
DTEND;TZID=America/New_York:20200522T133000
DTSTAMP:20260421T020934
CREATED:20230715T083128Z
LAST-MODIFIED:20240209T054130Z
UID:10000136-1590150600-1590154200@cmsa.fas.harvard.edu
SUMMARY:CMSA Math-Science Literature Lecture: Four-dimensional topology
DESCRIPTION:Ciprian Manolescu (Stanford) \nTitle: Four-dimensional topology \nAbstract: I will outline the history of four-dimensional topology. Some major events were the work of Donaldson and Freedman from 1982\, and the introduction of the Seiberg-Witten equations in 1994. I will discuss these\, and then move on to what has been done in the last 20 years\, when the focus shifted to four-manifolds with boundary and cobordisms. Floer homology has led to numerous applications\, and recently there have also been a few novel results (and proofs of old results) using Khovanov homology. The talk will be accessible to a general mathematical audience. \nVideo
URL:https://cmsa.fas.harvard.edu/event/cmsa-math-science-literature-lecture_manolescu/
LOCATION:Virtual
CATEGORIES:Event,Math Science Literature Lecture Series
ATTACH;FMTTYPE=image/jpeg:https://cmsa.fas.harvard.edu/media/Lecture_Manolescu-pdf.jpeg
END:VEVENT
END:VCALENDAR