BEGIN:VCALENDAR
VERSION:2.0
PRODID:-//CMSA - ECPv6.15.18//NONSGML v1.0//EN
CALSCALE:GREGORIAN
METHOD:PUBLISH
X-ORIGINAL-URL:https://cmsa.fas.harvard.edu
X-WR-CALDESC:Events for CMSA
REFRESH-INTERVAL;VALUE=DURATION:PT1H
X-Robots-Tag:noindex
X-PUBLISHED-TTL:PT1H
BEGIN:VTIMEZONE
TZID:America/New_York
BEGIN:DAYLIGHT
TZOFFSETFROM:-0500
TZOFFSETTO:-0400
TZNAME:EDT
DTSTART:20220313T070000
END:DAYLIGHT
BEGIN:STANDARD
TZOFFSETFROM:-0400
TZOFFSETTO:-0500
TZNAME:EST
DTSTART:20221106T060000
END:STANDARD
BEGIN:DAYLIGHT
TZOFFSETFROM:-0500
TZOFFSETTO:-0400
TZNAME:EDT
DTSTART:20230312T070000
END:DAYLIGHT
BEGIN:STANDARD
TZOFFSETFROM:-0400
TZOFFSETTO:-0500
TZNAME:EST
DTSTART:20231105T060000
END:STANDARD
BEGIN:DAYLIGHT
TZOFFSETFROM:-0500
TZOFFSETTO:-0400
TZNAME:EDT
DTSTART:20240310T070000
END:DAYLIGHT
BEGIN:STANDARD
TZOFFSETFROM:-0400
TZOFFSETTO:-0500
TZNAME:EST
DTSTART:20241103T060000
END:STANDARD
END:VTIMEZONE
BEGIN:VEVENT
DTSTART;TZID=America/New_York:20231003T110000
DTEND;TZID=America/New_York:20231003T120000
DTSTAMP:20260424T184959
CREATED:20240223T054715Z
LAST-MODIFIED:20240223T054715Z
UID:10002820-1696330800-1696334400@cmsa.fas.harvard.edu
SUMMARY:A Smooth Horizon without a Smooth Horizon
DESCRIPTION:General Relativity Seminar \nSpeaker: Chethan Krishnan (IISc Bangalore) \nTitle: A Smooth Horizon without a Smooth Horizon \nAbstract: I will talk about some work that is about to appear\, where we note one precise way in which the stretched horizon can simulate a smooth horizon. I will also make an effort to put things in some perspective (brickwalls\, fuzzballs\, Type I algebras\,…)
URL:https://cmsa.fas.harvard.edu/event/gr_10323/
LOCATION:MA
CATEGORIES:General Relativity Seminar
END:VEVENT
BEGIN:VEVENT
DTSTART;TZID=America/New_York:20231003T123000
DTEND;TZID=America/New_York:20231003T133000
DTSTAMP:20260424T184959
CREATED:20240223T082622Z
LAST-MODIFIED:20240223T082622Z
UID:10002836-1696336200-1696339800@cmsa.fas.harvard.edu
SUMMARY:CMSA Q and A Seminar 10/3/2023
DESCRIPTION:CMSA Q and A Seminar \nSpeakers: Dan Freed (Harvard Math & CMSA) and Dan Berwick-Evans (University of Illinois at Urbana-Champaign)\n\nTopics:\nDan Freed: What is framing anomaly? How is it different from other anomalies?\nDan Berwick-Evans: What is Atiyah-Singer index theorem?
URL:https://cmsa.fas.harvard.edu/event/cmsaqa_10323/
LOCATION:Common Room\, CMSA\, 20 Garden Street\, Cambridge\, MA\, 02138\, United States
CATEGORIES:CMSA Q&A Seminar
END:VEVENT
END:VCALENDAR