BEGIN:VCALENDAR
VERSION:2.0
PRODID:-//CMSA - ECPv6.15.18//NONSGML v1.0//EN
CALSCALE:GREGORIAN
METHOD:PUBLISH
X-ORIGINAL-URL:https://cmsa.fas.harvard.edu
X-WR-CALDESC:Events for CMSA
REFRESH-INTERVAL;VALUE=DURATION:PT1H
X-Robots-Tag:noindex
X-PUBLISHED-TTL:PT1H
BEGIN:VTIMEZONE
TZID:America/New_York
BEGIN:DAYLIGHT
TZOFFSETFROM:-0500
TZOFFSETTO:-0400
TZNAME:EDT
DTSTART:20220313T070000
END:DAYLIGHT
BEGIN:STANDARD
TZOFFSETFROM:-0400
TZOFFSETTO:-0500
TZNAME:EST
DTSTART:20221106T060000
END:STANDARD
BEGIN:DAYLIGHT
TZOFFSETFROM:-0500
TZOFFSETTO:-0400
TZNAME:EDT
DTSTART:20230312T070000
END:DAYLIGHT
BEGIN:STANDARD
TZOFFSETFROM:-0400
TZOFFSETTO:-0500
TZNAME:EST
DTSTART:20231105T060000
END:STANDARD
BEGIN:DAYLIGHT
TZOFFSETFROM:-0500
TZOFFSETTO:-0400
TZNAME:EDT
DTSTART:20240310T070000
END:DAYLIGHT
BEGIN:STANDARD
TZOFFSETFROM:-0400
TZOFFSETTO:-0500
TZNAME:EST
DTSTART:20241103T060000
END:STANDARD
END:VTIMEZONE
BEGIN:VEVENT
DTSTART;TZID=America/New_York:20231030T163000
DTEND;TZID=America/New_York:20231030T173000
DTSTAMP:20260424T084442
CREATED:20240223T084547Z
LAST-MODIFIED:20240223T084547Z
UID:10002840-1698683400-1698687000@cmsa.fas.harvard.edu
SUMMARY:Homotopy categories of rings: some properties and consequences in module categories
DESCRIPTION:Speaker: Manuel Cortés-Izurdiaga (University of Malaga) \nTitle:  Homotopy categories of rings: some properties and consequences in module categories \nAbstract: Given a non-necessarily commutative ring with unit and an additive subcategory of the category of right modules\, one can consider complexes of modules in the subcategory and the corresponding homotopy category. Sometimes\, these homotopy categories are the first step in studying other (algebraic) homotopy categories\, such as those associated to a scheme. To study these categories\, one can use results from the category of modules or the category of complexes. In the first part of the talk\, we will see how some results of homotopy categories of complexes extend to homotopy categories of N-complexes\, for a natural number N greater than or equal to 2\, using some techniques from module categories\, such us the deconstruction of a class of modules. \nAnother approximation is to use other methods for studying homotopy categories\, like those coming from triangulated categories. In some cases\, the results obtained in homotopy categories imply some consequences in the category of modules. In the second part of the talk\, we will see how to prove the existence of Gorenstein-projective precovers for some specific rings using this approach.
URL:https://cmsa.fas.harvard.edu/event/colloquium-103023/
LOCATION:CMSA Room G10\, CMSA\, 20 Garden Street\, Cambridge\, MA\, 02138\, United States
CATEGORIES:Colloquium
ATTACH;FMTTYPE=image/png:https://cmsa.fas.harvard.edu/media/CMSA-Colloquium-10.30.2023.png
END:VEVENT
END:VCALENDAR