BEGIN:VCALENDAR
VERSION:2.0
PRODID:-//CMSA - ECPv6.15.18//NONSGML v1.0//EN
CALSCALE:GREGORIAN
METHOD:PUBLISH
X-ORIGINAL-URL:https://cmsa.fas.harvard.edu
X-WR-CALDESC:Events for CMSA
REFRESH-INTERVAL;VALUE=DURATION:PT1H
X-Robots-Tag:noindex
X-PUBLISHED-TTL:PT1H
BEGIN:VTIMEZONE
TZID:America/New_York
BEGIN:DAYLIGHT
TZOFFSETFROM:-0500
TZOFFSETTO:-0400
TZNAME:EDT
DTSTART:20220313T070000
END:DAYLIGHT
BEGIN:STANDARD
TZOFFSETFROM:-0400
TZOFFSETTO:-0500
TZNAME:EST
DTSTART:20221106T060000
END:STANDARD
BEGIN:DAYLIGHT
TZOFFSETFROM:-0500
TZOFFSETTO:-0400
TZNAME:EDT
DTSTART:20230312T070000
END:DAYLIGHT
BEGIN:STANDARD
TZOFFSETFROM:-0400
TZOFFSETTO:-0500
TZNAME:EST
DTSTART:20231105T060000
END:STANDARD
BEGIN:DAYLIGHT
TZOFFSETFROM:-0500
TZOFFSETTO:-0400
TZNAME:EDT
DTSTART:20240310T070000
END:DAYLIGHT
BEGIN:STANDARD
TZOFFSETFROM:-0400
TZOFFSETTO:-0500
TZNAME:EST
DTSTART:20241103T060000
END:STANDARD
END:VTIMEZONE
BEGIN:VEVENT
DTSTART;TZID=America/New_York:20231129T170000
DTEND;TZID=America/New_York:20231129T180000
DTSTAMP:20260424T121942
CREATED:20240221T100735Z
LAST-MODIFIED:20240221T100813Z
UID:10002773-1701277200-1701280800@cmsa.fas.harvard.edu
SUMMARY:Anomalous Landau level analog in solids: search and implications for 2d heterostructures
DESCRIPTION:Topological Quantum Matter Seminar \nSpeaker: Valentin Crepel\, Flatiron Institute \nTitle: Anomalous Landau level analog in solids: search and implications for 2d heterostructures \nAbstract: The recent experimental observation of fractional Chen insulators — the analog of fractional quantum Hall states realized in absence of any applied magnetic field — calls for more detailed theoretical investigations of the special conditions allowing their emergence. To gain some insight on this problem\, we can rely on (i) our extensive knowledge of the physical properties of Landau levels\, and (ii) the identification of their exact solid state analogs. \nIn this talk\, (i-ii) will be discussed in the case of ”anomalous Landau levels”\, which are protected by an index theorem\, and whose most famous representative are the zero-th Landau levels of graphene. In particular\, I will derive the generic form of Bloch wave functions realizing the analog of such anomalous Landau levels\, and argue that twisted transition metal dichalcogenides homobilayers (in which fractional Chern insulators were first discovered) almost realize such anomalous bands.
URL:https://cmsa.fas.harvard.edu/event/tqms_112923/
LOCATION:CMSA Room G10\, CMSA\, 20 Garden Street\, Cambridge\, MA\, 02138\, United States
CATEGORIES:Topological Quantum Matter Seminar
ATTACH;FMTTYPE=image/png:https://cmsa.fas.harvard.edu/media/CMSA-Topological-Seminar-11.29.23.docx-1_Page_1.png
END:VEVENT
END:VCALENDAR