BEGIN:VCALENDAR
VERSION:2.0
PRODID:-//CMSA - ECPv6.15.18//NONSGML v1.0//EN
CALSCALE:GREGORIAN
METHOD:PUBLISH
X-ORIGINAL-URL:https://cmsa.fas.harvard.edu
X-WR-CALDESC:Events for CMSA
REFRESH-INTERVAL;VALUE=DURATION:PT1H
X-Robots-Tag:noindex
X-PUBLISHED-TTL:PT1H
BEGIN:VTIMEZONE
TZID:America/New_York
BEGIN:DAYLIGHT
TZOFFSETFROM:-0500
TZOFFSETTO:-0400
TZNAME:EDT
DTSTART:20220313T070000
END:DAYLIGHT
BEGIN:STANDARD
TZOFFSETFROM:-0400
TZOFFSETTO:-0500
TZNAME:EST
DTSTART:20221106T060000
END:STANDARD
BEGIN:DAYLIGHT
TZOFFSETFROM:-0500
TZOFFSETTO:-0400
TZNAME:EDT
DTSTART:20230312T070000
END:DAYLIGHT
BEGIN:STANDARD
TZOFFSETFROM:-0400
TZOFFSETTO:-0500
TZNAME:EST
DTSTART:20231105T060000
END:STANDARD
BEGIN:DAYLIGHT
TZOFFSETFROM:-0500
TZOFFSETTO:-0400
TZNAME:EDT
DTSTART:20240310T070000
END:DAYLIGHT
BEGIN:STANDARD
TZOFFSETFROM:-0400
TZOFFSETTO:-0500
TZNAME:EST
DTSTART:20241103T060000
END:STANDARD
END:VTIMEZONE
BEGIN:VEVENT
DTSTART;TZID=America/New_York:20231204T103000
DTEND;TZID=America/New_York:20231204T113000
DTSTAMP:20260424T150111
CREATED:20240222T065433Z
LAST-MODIFIED:20240222T152910Z
UID:10002786-1701685800-1701689400@cmsa.fas.harvard.edu
SUMMARY:CM-minimizers and standard models of Fano fibrations over curves
DESCRIPTION:Algebraic Geometry in String Theory Seminar \n\nSpeaker: Maksym Fedorchuk (Boston College) \nTitle: CM-minimizers and standard models of Fano fibrations over curves \nAbstract: A recent achievement in K-stability of Fano varieties is an algebro-geometric construction of a projective moduli space of K-polystable Fanos. The ample line bundle on this moduli space is the CM line bundle of Tian. One of the consequences of the general theory is that given a family of K-stable Fanos over a punctured curve\, the polystable filling is the one that minimizes the degree of the CM line bundle after every finite base change. A natural question is to ask what are the CM-minimizers without base change. In answering this question\, we arrive at a theory of Koll\’ar stability for fibrations over one-dimensional bases\, and standard models of Fano fibrations. I will explain the joint work with Hamid Abban and Igor Krylov in which we show that the CM-minimizers for del Pezzo fibrations are Corti’s standard models and related work in progress on quartic threefold hypersurfaces. \n\n 
URL:https://cmsa.fas.harvard.edu/event/agst-12423/
LOCATION:CMSA Room G10\, CMSA\, 20 Garden Street\, Cambridge\, MA\, 02138\, United States
CATEGORIES:Algebraic Geometry in String Theory Seminar
ATTACH;FMTTYPE=image/jpeg:https://cmsa.fas.harvard.edu/media/CMSA-AGIST-12.04.23-scaled.jpg
END:VEVENT
BEGIN:VEVENT
DTSTART;TZID=America/New_York:20231204T140000
DTEND;TZID=America/New_York:20231204T150000
DTSTAMP:20260424T150111
CREATED:20240226T112024Z
LAST-MODIFIED:20240226T112046Z
UID:10002869-1701698400-1701702000@cmsa.fas.harvard.edu
SUMMARY:The Fractional Quantum Hall Effect at ν=5/2: Past\, Recent\, and Future
DESCRIPTION:Topological Quantum Matter Seminar \nSpeaker:  Ken K. W. Ma (Northeastern University) \nTitle: The Fractional Quantum Hall Effect at ν=5/2: Past\, Recent\, and Future \nAbstract: The discovery of fractional quantum Hall (FQH) states started a new chapter in modern physics. Nowadays\, more than 70 FQH states at different filling factors have been observed. Among them\, the FQH state at the filling factor ν=5/2 in GaAs (or the 5/2 state) remains one of the most special and attractive states. Since its discovery in 1987\, different possible topological orders have been proposed to describe the 5/2 state. Some of them can host an exotic type of particles\, known as non-Abelian anyons. Recent experiments have provided more insights into the understanding of the 5/2 state\, but its underlying nature is still under debate. \nIn this talk\, I will review the basics of the 5/2 state [1] and a more unified theoretical description of different possible topological orders of the 5/2 state that we have recently proposed [2]. I will also review the groundbreaking thermal Hall conductance experiment [3] and the follow-up quantum Hall interface experiments by the Weizmann Institute group [4\, 5]\, and discuss what possible lessons that we can learn from the experimental results. Lastly\, I will talk about some possible directions and related topics for future investigations. \nReferences: \n[1] K. K. W. Ma\, M. R. Peterson\, V. W. Scarola\, and K. Yang\, “Fractional quantum Hall effect at the filling factor ν = 5/2” in Encyclopedia of Condensed Matter Physics (Second Edition)\, edited by T. Chakraborty\, Academic Press (2024).\n[2] K. K. W. Ma and D. E. Feldman\, “The sixteenfold way and the quantum Hall effect at half-integer filling factors”\, Phys. Rev. B 100\, 035302 (2019).\n[3] M. Banerjee\, M. Heiblum\, V. Umansky\, D. E. Feldman\, Y. Oreg\, and A. Stern\, “Observation of half-integer thermal Hall conductance”\, Nature (London) 559\, 205 (2018).\n[4] B. Dutta\, W. Yang\, R. Melcer\, H. K. Kundu\, M. Heiblum\, V. Umansky\, Y. Oreg\, A. Stern\, D. Mross\, “Distinguishing between non-Abelian topological orders in a quantum Hall system”\, Science 375\, 193 (2021).\n[5] B. Dutta\, V. Umansky\, M. Banerjee\, and M. Heiblum\, “Isolated ballistic non-Abelian interface channel”\, Science 377\, 1198 (2022). \n 
URL:https://cmsa.fas.harvard.edu/event/tqms_12423/
LOCATION:CMSA Room G10\, CMSA\, 20 Garden Street\, Cambridge\, MA\, 02138\, United States
CATEGORIES:Topological Quantum Matter Seminar
ATTACH;FMTTYPE=image/png:https://cmsa.fas.harvard.edu/media/CMSA-Topological-Seminar-12.04.23.png
END:VEVENT
BEGIN:VEVENT
DTSTART;TZID=America/New_York:20231204T163000
DTEND;TZID=America/New_York:20231204T173000
DTSTAMP:20260424T150111
CREATED:20240223T075301Z
LAST-MODIFIED:20240223T075301Z
UID:10002830-1701707400-1701711000@cmsa.fas.harvard.edu
SUMMARY:Analysis of ALH* gravitational instantons
DESCRIPTION:Speaker: Xuwen Zhu (Northeastern) \nTitle: Analysis of ALH* gravitational instantons \nAbstract: Gravitational instantons are non-compact Calabi-Yau metrics with L^2 bounded curvature and are categorized into six types. We will discuss one such type called ALH* metrics which has a non-compact end modelled by the Calabi ansatz with inhomogeneous collapsing near infinity. Such metrics appeared recently in the works on SYZ conjecture\, as well as the scaling bubble limits for codimension-3 collapsing of K3 surfaces\, where the study of its Laplacian played a central role. In this talk I will talk about the Fredholm mapping property and L^2 cohomology of such metrics. This is ongoing work joint with Rafe Mazzeo.
URL:https://cmsa.fas.harvard.edu/event/colloquium-12423/
LOCATION:CMSA Room G10\, CMSA\, 20 Garden Street\, Cambridge\, MA\, 02138\, United States
CATEGORIES:Colloquium
ATTACH;FMTTYPE=image/png:https://cmsa.fas.harvard.edu/media/CMSA-Colloquium-12.04.2023.docx-1.png
END:VEVENT
END:VCALENDAR