BEGIN:VCALENDAR
VERSION:2.0
PRODID:-//CMSA - ECPv6.15.18//NONSGML v1.0//EN
CALSCALE:GREGORIAN
METHOD:PUBLISH
X-ORIGINAL-URL:https://cmsa.fas.harvard.edu
X-WR-CALDESC:Events for CMSA
REFRESH-INTERVAL;VALUE=DURATION:PT1H
X-Robots-Tag:noindex
X-PUBLISHED-TTL:PT1H
BEGIN:VTIMEZONE
TZID:America/New_York
BEGIN:DAYLIGHT
TZOFFSETFROM:-0500
TZOFFSETTO:-0400
TZNAME:EDT
DTSTART:20230312T070000
END:DAYLIGHT
BEGIN:STANDARD
TZOFFSETFROM:-0400
TZOFFSETTO:-0500
TZNAME:EST
DTSTART:20231105T060000
END:STANDARD
BEGIN:DAYLIGHT
TZOFFSETFROM:-0500
TZOFFSETTO:-0400
TZNAME:EDT
DTSTART:20240310T070000
END:DAYLIGHT
BEGIN:STANDARD
TZOFFSETFROM:-0400
TZOFFSETTO:-0500
TZNAME:EST
DTSTART:20241103T060000
END:STANDARD
BEGIN:DAYLIGHT
TZOFFSETFROM:-0500
TZOFFSETTO:-0400
TZNAME:EDT
DTSTART:20250309T070000
END:DAYLIGHT
BEGIN:STANDARD
TZOFFSETFROM:-0400
TZOFFSETTO:-0500
TZNAME:EST
DTSTART:20251102T060000
END:STANDARD
END:VTIMEZONE
BEGIN:VEVENT
DTSTART;TZID=America/New_York:20241121T090000
DTEND;TZID=America/New_York:20241121T103000
DTSTAMP:20260425T140245
CREATED:20240923T152934Z
LAST-MODIFIED:20241203T144846Z
UID:10003528-1732179600-1732185000@cmsa.fas.harvard.edu
SUMMARY:CMSA/Tsinghua Math-Science Literature Lecture: Bjorn Poonen\, MIT
DESCRIPTION:CMSA/Tsinghua Math-Science Literature Lecture \nDate: November 21\, 2024 \nTime: 9:00 – 10:30 am ET \nLocation: CMSA G10\, 20 Garden Street\, Cambridge MA & via Zoom \nSpeaker: Bjorn Poonen\, MIT \nTitle: Ranks of elliptic curves \nAbstract: Elliptic curves are simplest varieties whose rational points are not fully understood\, and they are the simplest projective varieties with a nontrivial group structure.  In 1922 Mordell proved that the group of rational points on an elliptic curve is finitely generated.  We will survey what is known and what is believed about this group. \n  \n\nBeginning in Spring 2020\, the CMSA began hosting a lecture series on literature in the mathematical sciences\, with a focus on significant developments in mathematics that have influenced the discipline\, and the lifetime accomplishments of significant scholars.
URL:https://cmsa.fas.harvard.edu/event/mathscilit2024_bp/
LOCATION:CMSA Room G10\, CMSA\, 20 Garden Street\, Cambridge\, MA\, 02138\, United States
CATEGORIES:Math Science Literature Lecture Series
ATTACH;FMTTYPE=image/png:https://cmsa.fas.harvard.edu/media/Mathlit_Poonen_11x17.png
END:VEVENT
BEGIN:VEVENT
DTSTART;TZID=America/New_York:20241121T103000
DTEND;TZID=America/New_York:20241121T113000
DTSTAMP:20260425T140245
CREATED:20240924T174856Z
LAST-MODIFIED:20241115T175402Z
UID:10003599-1732185000-1732188600@cmsa.fas.harvard.edu
SUMMARY:Skein valued curve counts for the topological vertex and knot conormals
DESCRIPTION:Mathematical Physics and Algebraic Geometry Seminar \nSpeaker: Tobias Ekholm\, Uppsala University \nTitle: Skein valued curve counts for the topological vertex and knot conormals \nAbstract: Combining the invariance of holomorphic curve counts in the skein module with a study of holomorphic curves at infinity of the vertex we find three simple skein operator polynomials that annihilates the (skein valued) topological vertex. We show that these operator polynomials together with natural initial conditions determine the partition function uniquely and then demonstrate that the original Aganagic-Klemm-Marino-Vafa formula for the topological vertex interpreted as a skein valued curve count satisfies the operator polynomials. This is joint work with Longhi and Shende. We end with a general discussion of similar ‘skein D-modules’ for knot conormals. \n 
URL:https://cmsa.fas.harvard.edu/event/mathphys_112124/
LOCATION:CMSA Room G10\, CMSA\, 20 Garden Street\, Cambridge\, MA\, 02138\, United States
CATEGORIES:Mathematical Physics and Algebraic Geometry
ATTACH;FMTTYPE=image/png:https://cmsa.fas.harvard.edu/media/CMSA-Mathematical-Physics-and-Algebraic-Geometry-11.21.2024.png
END:VEVENT
END:VCALENDAR