BEGIN:VCALENDAR
VERSION:2.0
PRODID:-//CMSA - ECPv6.15.18//NONSGML v1.0//EN
CALSCALE:GREGORIAN
METHOD:PUBLISH
X-ORIGINAL-URL:https://cmsa.fas.harvard.edu
X-WR-CALDESC:Events for CMSA
REFRESH-INTERVAL;VALUE=DURATION:PT1H
X-Robots-Tag:noindex
X-PUBLISHED-TTL:PT1H
BEGIN:VTIMEZONE
TZID:America/New_York
BEGIN:DAYLIGHT
TZOFFSETFROM:-0500
TZOFFSETTO:-0400
TZNAME:EDT
DTSTART:20230312T070000
END:DAYLIGHT
BEGIN:STANDARD
TZOFFSETFROM:-0400
TZOFFSETTO:-0500
TZNAME:EST
DTSTART:20231105T060000
END:STANDARD
BEGIN:DAYLIGHT
TZOFFSETFROM:-0500
TZOFFSETTO:-0400
TZNAME:EDT
DTSTART:20240310T070000
END:DAYLIGHT
BEGIN:STANDARD
TZOFFSETFROM:-0400
TZOFFSETTO:-0500
TZNAME:EST
DTSTART:20241103T060000
END:STANDARD
BEGIN:DAYLIGHT
TZOFFSETFROM:-0500
TZOFFSETTO:-0400
TZNAME:EDT
DTSTART:20250309T070000
END:DAYLIGHT
BEGIN:STANDARD
TZOFFSETFROM:-0400
TZOFFSETTO:-0500
TZNAME:EST
DTSTART:20251102T060000
END:STANDARD
END:VTIMEZONE
BEGIN:VEVENT
DTSTART;TZID=America/New_York:20241206T120000
DTEND;TZID=America/New_York:20241206T130000
DTSTAMP:20260424T174352
CREATED:20240919T144747Z
LAST-MODIFIED:20241203T164917Z
UID:10003527-1733486400-1733490000@cmsa.fas.harvard.edu
SUMMARY:On the Coulomb branch scaling dimensions of 4d N=2 SCFTs
DESCRIPTION:Member Seminar \nSpeaker: Robert Moscrop \nTitle: On the Coulomb branch scaling dimensions of 4d N=2 SCFTs \nAbstract: To each four dimensional N=2 superconformal field theory of rank-r\, one can associate an r-tuple of numbers given by the scaling dimensions of a special set of protected operators whose VEVs parameterise the Coulomb branch. In this talk\, I will demonstrate how the special geometry of the Coulomb branch heavily constrains not only the values of the scaling dimensions\, but also the possible r-tuples of such numbers that can occur.
URL:https://cmsa.fas.harvard.edu/event/member-seminar-120624/
LOCATION:CMSA Room G10\, CMSA\, 20 Garden Street\, Cambridge\, MA\, 02138\, United States
CATEGORIES:Member Seminar
ATTACH;FMTTYPE=image/png:https://cmsa.fas.harvard.edu/media/CMSA-Member-Seminar-12.6.24.png
END:VEVENT
BEGIN:VEVENT
DTSTART;TZID=America/New_York:20241206T160000
DTEND;TZID=America/New_York:20241206T170000
DTSTAMP:20260424T174353
CREATED:20240923T164849Z
LAST-MODIFIED:20241202T185723Z
UID:10003603-1733500800-1733504400@cmsa.fas.harvard.edu
SUMMARY:A simple model for universal quantum computation
DESCRIPTION:Freedman CMSA Seminar \nSpeaker: Michael Freedman \nTitle: A simple model for universal quantum computation \nAbstract: I’ll present joint (unpublished) work with Charlie Marcus on a surprisingly simple – and potentially practical (?)– model for universal quantum computation whose only quantum primitive is the ability to measure a pair of adjacent electrons into either singlet (spin=0) or triplet (spin=1) sectors according to the Born rule. The electrons are located on quantum dots arranged in a triangular lattice whose edges are tiny strips of s-wave superconductor. \n 
URL:https://cmsa.fas.harvard.edu/event/freedman_12624/
LOCATION:Virtual
CATEGORIES:Freedman Seminar
ATTACH;FMTTYPE=image/png:https://cmsa.fas.harvard.edu/media/CMSA-Freedman-Seminar-12.06.2024.png
END:VEVENT
END:VCALENDAR