BEGIN:VCALENDAR
VERSION:2.0
PRODID:-//CMSA - ECPv6.15.18//NONSGML v1.0//EN
CALSCALE:GREGORIAN
METHOD:PUBLISH
X-ORIGINAL-URL:https://cmsa.fas.harvard.edu
X-WR-CALDESC:Events for CMSA
REFRESH-INTERVAL;VALUE=DURATION:PT1H
X-Robots-Tag:noindex
X-PUBLISHED-TTL:PT1H
BEGIN:VTIMEZONE
TZID:America/New_York
BEGIN:DAYLIGHT
TZOFFSETFROM:-0500
TZOFFSETTO:-0400
TZNAME:EDT
DTSTART:20240310T070000
END:DAYLIGHT
BEGIN:STANDARD
TZOFFSETFROM:-0400
TZOFFSETTO:-0500
TZNAME:EST
DTSTART:20241103T060000
END:STANDARD
BEGIN:DAYLIGHT
TZOFFSETFROM:-0500
TZOFFSETTO:-0400
TZNAME:EDT
DTSTART:20250309T070000
END:DAYLIGHT
BEGIN:STANDARD
TZOFFSETFROM:-0400
TZOFFSETTO:-0500
TZNAME:EST
DTSTART:20251102T060000
END:STANDARD
BEGIN:DAYLIGHT
TZOFFSETFROM:-0500
TZOFFSETTO:-0400
TZNAME:EDT
DTSTART:20260308T070000
END:DAYLIGHT
BEGIN:STANDARD
TZOFFSETFROM:-0400
TZOFFSETTO:-0500
TZNAME:EST
DTSTART:20261101T060000
END:STANDARD
END:VTIMEZONE
BEGIN:VEVENT
DTSTART;TZID=America/New_York:20250204T110000
DTEND;TZID=America/New_York:20250204T120000
DTSTAMP:20260420T184822
CREATED:20240903T192049Z
LAST-MODIFIED:20250130T190257Z
UID:10003428-1738666800-1738670400@cmsa.fas.harvard.edu
SUMMARY:The mass angular momentum inequality
DESCRIPTION:General Relativity Seminar \nSpeaker: Gilbert Weinstein\, Ariel University \nTitle: The mass angular momentum inequality \nAbstract: We show that either there is a counterexample to black hole uniqueness\, in the form of a regular axisymmetric stationary vacuum spacetime with an asymptotically flat end and multiple degenerate horizons which is ‘ADM stable’\, or the following statement holds. Complete\, simply connected\, maximal initial data sets for the Einstein equations with multiple ends that are either asymptotically flat or asymptotically cylindrical\, admit an ADM mass lower bound given by the square root of total angular momentum\, under the assumption of nonnegative energy density and axisymmetry. Moreover\, equality is achieved bound only for a constant time slice of an extreme Kerr spacetime. The proof is based on a novel flow of singular harmonic maps with hyperbolic plane target\, under which the renormalized harmonic energy is monotonically nonincreasing. Relevant properties of the flow are achieved through a refined asymptotic analysis of solutions to the linearized harmonic map equations.
URL:https://cmsa.fas.harvard.edu/event/general-relativity-seminar-2425/
LOCATION:Virtual
CATEGORIES:General Relativity Seminar
ATTACH;FMTTYPE=image/png:https://cmsa.fas.harvard.edu/media/CMSA-GR-Seminar-2.4.25.png
END:VEVENT
BEGIN:VEVENT
DTSTART;TZID=America/New_York:20250204T161500
DTEND;TZID=America/New_York:20250204T181500
DTSTAMP:20260420T184822
CREATED:20240917T160739Z
LAST-MODIFIED:20250124T152130Z
UID:10003513-1738685700-1738692900@cmsa.fas.harvard.edu
SUMMARY:Blob homology
DESCRIPTION:Geometry and Quantum Theory Seminar \nSpeaker: Sunghyuk Park\, Harvard CMSA \nTitle: Blob homology
URL:https://cmsa.fas.harvard.edu/event/quantumgeo_2425/
LOCATION:Science Center 507\, 1 Oxford Street\, Cambridge\, 02138
CATEGORIES:Geometry and Quantum Theory Seminar
ATTACH;FMTTYPE=image/png:https://cmsa.fas.harvard.edu/media/CMSA-Geometry-Quantum-Theory-2.4.2025.png
END:VEVENT
END:VCALENDAR