BEGIN:VCALENDAR
VERSION:2.0
PRODID:-//CMSA - ECPv6.15.18//NONSGML v1.0//EN
CALSCALE:GREGORIAN
METHOD:PUBLISH
X-WR-CALNAME:CMSA
X-ORIGINAL-URL:https://cmsa.fas.harvard.edu
X-WR-CALDESC:Events for CMSA
REFRESH-INTERVAL;VALUE=DURATION:PT1H
X-Robots-Tag:noindex
X-PUBLISHED-TTL:PT1H
BEGIN:VTIMEZONE
TZID:America/New_York
BEGIN:DAYLIGHT
TZOFFSETFROM:-0500
TZOFFSETTO:-0400
TZNAME:EDT
DTSTART:20240310T070000
END:DAYLIGHT
BEGIN:STANDARD
TZOFFSETFROM:-0400
TZOFFSETTO:-0500
TZNAME:EST
DTSTART:20241103T060000
END:STANDARD
BEGIN:DAYLIGHT
TZOFFSETFROM:-0500
TZOFFSETTO:-0400
TZNAME:EDT
DTSTART:20250309T070000
END:DAYLIGHT
BEGIN:STANDARD
TZOFFSETFROM:-0400
TZOFFSETTO:-0500
TZNAME:EST
DTSTART:20251102T060000
END:STANDARD
BEGIN:DAYLIGHT
TZOFFSETFROM:-0500
TZOFFSETTO:-0400
TZNAME:EDT
DTSTART:20260308T070000
END:DAYLIGHT
BEGIN:STANDARD
TZOFFSETFROM:-0400
TZOFFSETTO:-0500
TZNAME:EST
DTSTART:20261101T060000
END:STANDARD
END:VTIMEZONE
BEGIN:VEVENT
DTSTART;TZID=America/New_York:20251030T140000
DTEND;TZID=America/New_York:20251030T150000
DTSTAMP:20260421T011241
CREATED:20251014T143046Z
LAST-MODIFIED:20251030T144718Z
UID:10003812-1761832800-1761836400@cmsa.fas.harvard.edu
SUMMARY:Affine Springer fibers and representations
DESCRIPTION:Algebra Seminar \nSpeaker: Roman Bezrukavnikov\, MIT \nTitle: Affine Springer fibers and representations \nAbstract: Relating representation categories of interest\, such of modules over the quantum group\, to topology of loop spaces has been an important theme in representation theory for some decades. I will describe a result of this sort involving a geometric object that has not appeared in this context until now\, an affine Springer fiber\, and mention its applications. Based on a joint work with Pablo Boixeda Alvarez\, Michael McBreen and Zhiwei Yun. \n  \n 
URL:https://cmsa.fas.harvard.edu/event/algebra-seminar_103025/
LOCATION:CMSA Room G10\, CMSA\, 20 Garden Street\, Cambridge\, MA\, 02138\, United States
CATEGORIES:Algebra Seminar
ATTACH;FMTTYPE=image/png:https://cmsa.fas.harvard.edu/media/CMSA-Algebra-Seminar-10.30.25.docx-2-scaled.png
END:VEVENT
BEGIN:VEVENT
DTSTART;TZID=America/New_York:20251030T160000
DTEND;TZID=America/New_York:20251030T170000
DTSTAMP:20260421T011241
CREATED:20250904T162918Z
LAST-MODIFIED:20251027T145519Z
UID:10003782-1761840000-1761843600@cmsa.fas.harvard.edu
SUMMARY:RCD structures on singular Kahler varieties
DESCRIPTION:Differential Geometry and Physics Seminar  \nSpeaker: Jian Song\, Rutgers University \nTitle: RCD structures on singular Kahler varieties \nAbstract: Let X be a 3-dimensional projective variety with klt singularities. We prove that every singular Kahler metric on X with bounded Nash entropy and Ricci curvature bounded below induces a unique compact RCD space homeomorphic to the projective variety X itself. In particular\, singular Kahler- Einstein spaces of complex dimension 3 with bounded Nash entropy are compact RCD spaces topologically and holomorphically equivalent to the underlying projective variety.  Such results establish connections among algebraic\, geometric and analytic structures of klt singularities from birational geometry and provide abundant examples of RCD spaces from algebraic geometry via complex Monge-Ampere equations.
URL:https://cmsa.fas.harvard.edu/event/dgphys_103025/
LOCATION:CMSA Room G10\, CMSA\, 20 Garden Street\, Cambridge\, MA\, 02138\, United States
CATEGORIES:Differential Geometry and Physics Seminar
ATTACH;FMTTYPE=image/png:https://cmsa.fas.harvard.edu/media/DG-Physics-Seminar-10.30.2025-scaled.png
END:VEVENT
END:VCALENDAR