BEGIN:VCALENDAR
VERSION:2.0
PRODID:-//CMSA - ECPv6.15.18//NONSGML v1.0//EN
CALSCALE:GREGORIAN
METHOD:PUBLISH
X-ORIGINAL-URL:https://cmsa.fas.harvard.edu
X-WR-CALDESC:Events for CMSA
REFRESH-INTERVAL;VALUE=DURATION:PT1H
X-Robots-Tag:noindex
X-PUBLISHED-TTL:PT1H
BEGIN:VTIMEZONE
TZID:America/New_York
BEGIN:DAYLIGHT
TZOFFSETFROM:-0500
TZOFFSETTO:-0400
TZNAME:EDT
DTSTART:20240310T070000
END:DAYLIGHT
BEGIN:STANDARD
TZOFFSETFROM:-0400
TZOFFSETTO:-0500
TZNAME:EST
DTSTART:20241103T060000
END:STANDARD
BEGIN:DAYLIGHT
TZOFFSETFROM:-0500
TZOFFSETTO:-0400
TZNAME:EDT
DTSTART:20250309T070000
END:DAYLIGHT
BEGIN:STANDARD
TZOFFSETFROM:-0400
TZOFFSETTO:-0500
TZNAME:EST
DTSTART:20251102T060000
END:STANDARD
BEGIN:DAYLIGHT
TZOFFSETFROM:-0500
TZOFFSETTO:-0400
TZNAME:EDT
DTSTART:20260308T070000
END:DAYLIGHT
BEGIN:STANDARD
TZOFFSETFROM:-0400
TZOFFSETTO:-0500
TZNAME:EST
DTSTART:20261101T060000
END:STANDARD
END:VTIMEZONE
BEGIN:VEVENT
DTSTART;TZID=America/New_York:20251204T120000
DTEND;TZID=America/New_York:20251204T130000
DTSTAMP:20260424T200418
CREATED:20250904T163130Z
LAST-MODIFIED:20251203T150446Z
UID:10003786-1764849600-1764853200@cmsa.fas.harvard.edu
SUMMARY:Towards a Dolbeault AGT correspondence
DESCRIPTION:Differential Geometry and Physics Seminar  \nSpeaker: Surya Raghavendran\, Yale \nTitle: Towards a Dolbeault AGT correspondence \nAbstract: The AGT correspondence and its extensions propose geometric constructions of vertex algebras and their modules from the cohomology of various moduli spaces of sheaves on surfaces. Physically\, the correspondence is illuminated throgh the holomorphic–topological twist of the six-dimensional N=(2\,0) superconformal field theories. In this talk\, I will describe a variant of AGT arising instead from the so-called minimal twist of these theories. In this setting\, the natural algebraic structures are holomorphic factorization algebras in three complex dimensions. From these\, one can extract an associative algebra together with a natural module\, which we conjecture to coincide with a quantization of the moduli of Higgs sheaves on surfaces. In examples\, this pair is furthermore expected to admit a Hodge–de Rham deformation to the Heisenberg algebra and its action on the cohomology of Hilbert schemes of surfaces\, as constructed by Grojnowski and Nakajima. \n  \n  \n 
URL:https://cmsa.fas.harvard.edu/event/dgphys_12425/
LOCATION:CMSA Room G10\, CMSA\, 20 Garden Street\, Cambridge\, MA\, 02138\, United States
CATEGORIES:Differential Geometry and Physics Seminar
ATTACH;FMTTYPE=image/png:https://cmsa.fas.harvard.edu/media/DG-Physics-Seminar-12.4.2025.docx-1-scaled.png
END:VEVENT
END:VCALENDAR