BEGIN:VCALENDAR
VERSION:2.0
PRODID:-//CMSA - ECPv6.15.18//NONSGML v1.0//EN
CALSCALE:GREGORIAN
METHOD:PUBLISH
X-ORIGINAL-URL:https://cmsa.fas.harvard.edu
X-WR-CALDESC:Events for CMSA
REFRESH-INTERVAL;VALUE=DURATION:PT1H
X-Robots-Tag:noindex
X-PUBLISHED-TTL:PT1H
BEGIN:VTIMEZONE
TZID:America/New_York
BEGIN:DAYLIGHT
TZOFFSETFROM:-0500
TZOFFSETTO:-0400
TZNAME:EDT
DTSTART:20250309T070000
END:DAYLIGHT
BEGIN:STANDARD
TZOFFSETFROM:-0400
TZOFFSETTO:-0500
TZNAME:EST
DTSTART:20251102T060000
END:STANDARD
BEGIN:DAYLIGHT
TZOFFSETFROM:-0500
TZOFFSETTO:-0400
TZNAME:EDT
DTSTART:20260308T070000
END:DAYLIGHT
BEGIN:STANDARD
TZOFFSETFROM:-0400
TZOFFSETTO:-0500
TZNAME:EST
DTSTART:20261101T060000
END:STANDARD
BEGIN:DAYLIGHT
TZOFFSETFROM:-0500
TZOFFSETTO:-0400
TZNAME:EDT
DTSTART:20270314T070000
END:DAYLIGHT
BEGIN:STANDARD
TZOFFSETFROM:-0400
TZOFFSETTO:-0500
TZNAME:EST
DTSTART:20271107T060000
END:STANDARD
END:VTIMEZONE
BEGIN:VEVENT
DTSTART;TZID=America/New_York:20260130T120000
DTEND;TZID=America/New_York:20260130T130000
DTSTAMP:20260423T073955
CREATED:20251014T142709Z
LAST-MODIFIED:20260128T171404Z
UID:10003811-1769774400-1769778000@cmsa.fas.harvard.edu
SUMMARY:Some results about saturation
DESCRIPTION:Member Seminar \nSpeaker: Stephen Landsittel \nTitle: Some results about saturation \nAbstract: Given a local ring R we can ask when saturation of ideals in R commutes with other operations on ideals (such as extension to a ring containing R). We show that the condition that extension of ideals along a ring map R \to S commutes with saturation controls inherent properties of the rings R & S\, such as Cohen-Macaulayness and unramifiedness.
URL:https://cmsa.fas.harvard.edu/event/member-seminar-13026/
LOCATION:Common Room\, CMSA\, 20 Garden Street\, Cambridge\, MA\, 02138\, United States
CATEGORIES:Member Seminar
ATTACH;FMTTYPE=image/png:https://cmsa.fas.harvard.edu/media/CMSA-Member-Seminar-1.30.26.docx-1-scaled.png
END:VEVENT
BEGIN:VEVENT
DTSTART;TZID=America/New_York:20260130T133000
DTEND;TZID=America/New_York:20260130T163000
DTSTAMP:20260423T073955
CREATED:20260108T211634Z
LAST-MODIFIED:20260122T164709Z
UID:10003870-1769779800-1769790600@cmsa.fas.harvard.edu
SUMMARY:Freedman Seminar: Michael Freedman\, CMSA & Slava Krushkal\, University of Virginia
DESCRIPTION:Freedman Seminar \nSpeakers: Michael Freedman\, CMSA and Slava Krushkal\, University of Virginia (2-3 pm and 3:15-4:15 pm) \nTitle: Formulating 4D surgery for AI agents \nAbstract: The topological category surgery exact sequence is still open for free groups (and most groups of exponential growth). The lack of knowledge is about both surgery and s-cobordism; and the source of the mystery is the same in both cases. Thinking about how to present this problem to AIs has had its own value. In a pair of talks we will explain how we have thought about the problem in the past and how we are thinking about it now.
URL:https://cmsa.fas.harvard.edu/event/freedman_13026/
LOCATION:Hybrid
CATEGORIES:Freedman Seminar
ATTACH;FMTTYPE=image/png:https://cmsa.fas.harvard.edu/media/CMSA-Freedman-Seminar-1.30.26-1-scaled.png
END:VEVENT
END:VCALENDAR