BEGIN:VCALENDAR
VERSION:2.0
PRODID:-//CMSA - ECPv6.15.18//NONSGML v1.0//EN
CALSCALE:GREGORIAN
METHOD:PUBLISH
X-ORIGINAL-URL:https://cmsa.fas.harvard.edu
X-WR-CALDESC:Events for CMSA
REFRESH-INTERVAL;VALUE=DURATION:PT1H
X-Robots-Tag:noindex
X-PUBLISHED-TTL:PT1H
BEGIN:VTIMEZONE
TZID:America/New_York
BEGIN:DAYLIGHT
TZOFFSETFROM:-0500
TZOFFSETTO:-0400
TZNAME:EDT
DTSTART:20250309T070000
END:DAYLIGHT
BEGIN:STANDARD
TZOFFSETFROM:-0400
TZOFFSETTO:-0500
TZNAME:EST
DTSTART:20251102T060000
END:STANDARD
BEGIN:DAYLIGHT
TZOFFSETFROM:-0500
TZOFFSETTO:-0400
TZNAME:EDT
DTSTART:20260308T070000
END:DAYLIGHT
BEGIN:STANDARD
TZOFFSETFROM:-0400
TZOFFSETTO:-0500
TZNAME:EST
DTSTART:20261101T060000
END:STANDARD
BEGIN:DAYLIGHT
TZOFFSETFROM:-0500
TZOFFSETTO:-0400
TZNAME:EDT
DTSTART:20270314T070000
END:DAYLIGHT
BEGIN:STANDARD
TZOFFSETFROM:-0400
TZOFFSETTO:-0500
TZNAME:EST
DTSTART:20271107T060000
END:STANDARD
END:VTIMEZONE
BEGIN:VEVENT
DTSTART;TZID=America/New_York:20260203T161500
DTEND;TZID=America/New_York:20260203T180000
DTSTAMP:20260425T204050
CREATED:20251223T191910Z
LAST-MODIFIED:20260202T171722Z
UID:10003852-1770135300-1770141600@cmsa.fas.harvard.edu
SUMMARY:More on Kubota's spectrum of invertible states
DESCRIPTION:Geometry and Quantum Theory Seminar \nSpeakers: Dan Freed and Bowen Yang\, Harvard CMSA \nTitle: More on Kubota’s spectrum of invertible states \nAbstract: Bowen will explain a construction aptly dubbed “Kitaev’s pump” in Kubota’s paper. Time permitting\, Bowen will demonstrate its ubiquity throughout the study of topological phases\, where it appears under various guises. In the second hour\, Dan will sketch Kubota’s construction of a spectrum from families of invertible quantum lattice systems.
URL:https://cmsa.fas.harvard.edu/event/quantumgeo_2326/
LOCATION:Science Center 507\, 1 Oxford Street\, Cambridge\, 02138
CATEGORIES:Geometry and Quantum Theory Seminar
ATTACH;FMTTYPE=image/png:https://cmsa.fas.harvard.edu/media/CMSA-Geometry-Quantum-Theory-2.3.26-scaled.png
END:VEVENT
END:VCALENDAR