BEGIN:VCALENDAR
VERSION:2.0
PRODID:-//CMSA - ECPv6.15.18//NONSGML v1.0//EN
CALSCALE:GREGORIAN
METHOD:PUBLISH
X-WR-CALNAME:CMSA
X-ORIGINAL-URL:https://cmsa.fas.harvard.edu
X-WR-CALDESC:Events for CMSA
REFRESH-INTERVAL;VALUE=DURATION:PT1H
X-Robots-Tag:noindex
X-PUBLISHED-TTL:PT1H
BEGIN:VTIMEZONE
TZID:America/New_York
BEGIN:DAYLIGHT
TZOFFSETFROM:-0500
TZOFFSETTO:-0400
TZNAME:EDT
DTSTART:20250309T070000
END:DAYLIGHT
BEGIN:STANDARD
TZOFFSETFROM:-0400
TZOFFSETTO:-0500
TZNAME:EST
DTSTART:20251102T060000
END:STANDARD
BEGIN:DAYLIGHT
TZOFFSETFROM:-0500
TZOFFSETTO:-0400
TZNAME:EDT
DTSTART:20260308T070000
END:DAYLIGHT
BEGIN:STANDARD
TZOFFSETFROM:-0400
TZOFFSETTO:-0500
TZNAME:EST
DTSTART:20261101T060000
END:STANDARD
BEGIN:DAYLIGHT
TZOFFSETFROM:-0500
TZOFFSETTO:-0400
TZNAME:EDT
DTSTART:20270314T070000
END:DAYLIGHT
BEGIN:STANDARD
TZOFFSETFROM:-0400
TZOFFSETTO:-0500
TZNAME:EST
DTSTART:20271107T060000
END:STANDARD
END:VTIMEZONE
BEGIN:VEVENT
DTSTART;TZID=America/New_York:20260420T150000
DTEND;TZID=America/New_York:20260420T160000
DTSTAMP:20260420T003403
CREATED:20260401T191402Z
LAST-MODIFIED:20260414T201025Z
UID:10003927-1776697200-1776700800@cmsa.fas.harvard.edu
SUMMARY:Higher current algebras and chiral algebras
DESCRIPTION:Quantum Field Theory and Physical Mathematics Seminar \nSpeaker: Charles Young (University of Hertfordshire) \nTitle: Higher current algebras and chiral algebras \nAbstract: Vertex algebras capture physicists’ notion of OPEs in chiral CFTs\, in complex dimension one. For various motivations\, one would like to have analogs of vertex algebras in higher dimensions. Chiral algebras\, in the sense of Beilinson-Drinfeld and Francis-Gaitsgory\, provide a natural framework here\, because they re-express the vertex algebra axioms (which are rather sui generis\, and therefore hard to generalize) as something more recognizable (a chiral algebra is a Lie algebra\, of a sort).\nI will review this\, and then go on to introduce a certain concrete model of the unit chiral algebra in higher dimensions. In higher dimensions one is forced to work up to coherent homotopy in some fashion; in this model it turns out to be in the mildest fashion one could hope for: namely\, one moves from Lie algebras to their homotopy analogs\, L-infinity algebras\, and from chiral algebras to homotopy chiral algebras in a sense introduced by Malikov-Schechtman.\nThe main tool in the talk will be a strict cdga model — the polysimplicial model — of derived global sections of the structure sheaf on configuration space. The hope is that this model will prove well-adapted to doing concrete calculations\, and in that direction\, I will gesture towards a homotopy version of the usual Arnold/Orlik-Solomon relations for broken circuits. \nThis is joint work with Zhengping Gui and Laura Felder and is based largely on the preprint 2506.09728 \n  \n 
URL:https://cmsa.fas.harvard.edu/event/qft_42026/
LOCATION:CMSA Room G10\, CMSA\, 20 Garden Street\, Cambridge\, MA\, 02138\, United States
CATEGORIES:Quantum Field Theory and Physical Mathematics
ATTACH;FMTTYPE=image/png:https://cmsa.fas.harvard.edu/media/CMSA-QFT-and-Physical-Mathematics-4.20.26.docx.png
END:VEVENT
END:VCALENDAR