BEGIN:VCALENDAR
VERSION:2.0
PRODID:-//CMSA - ECPv6.15.18//NONSGML v1.0//EN
CALSCALE:GREGORIAN
METHOD:PUBLISH
X-WR-CALNAME:CMSA
X-ORIGINAL-URL:https://cmsa.fas.harvard.edu
X-WR-CALDESC:Events for CMSA
REFRESH-INTERVAL;VALUE=DURATION:PT1H
X-Robots-Tag:noindex
X-PUBLISHED-TTL:PT1H
BEGIN:VTIMEZONE
TZID:America/New_York
BEGIN:DAYLIGHT
TZOFFSETFROM:-0500
TZOFFSETTO:-0400
TZNAME:EDT
DTSTART:20160313T070000
END:DAYLIGHT
BEGIN:STANDARD
TZOFFSETFROM:-0400
TZOFFSETTO:-0500
TZNAME:EST
DTSTART:20161106T060000
END:STANDARD
BEGIN:DAYLIGHT
TZOFFSETFROM:-0500
TZOFFSETTO:-0400
TZNAME:EDT
DTSTART:20170312T070000
END:DAYLIGHT
BEGIN:STANDARD
TZOFFSETFROM:-0400
TZOFFSETTO:-0500
TZNAME:EST
DTSTART:20171105T060000
END:STANDARD
BEGIN:DAYLIGHT
TZOFFSETFROM:-0500
TZOFFSETTO:-0400
TZNAME:EDT
DTSTART:20180311T070000
END:DAYLIGHT
BEGIN:STANDARD
TZOFFSETFROM:-0400
TZOFFSETTO:-0500
TZNAME:EST
DTSTART:20181104T060000
END:STANDARD
END:VTIMEZONE
BEGIN:VEVENT
DTSTART;TZID=America/New_York:20171102T170000
DTEND;TZID=America/New_York:20171102T180000
DTSTAMP:20260419T204939
CREATED:20230717T173530Z
LAST-MODIFIED:20250305T151232Z
UID:10000039-1509642000-1509645600@cmsa.fas.harvard.edu
SUMMARY:Jennifer Chayes Public Talk
DESCRIPTION:Jennifer Chayes (Microsoft Research) will be giving a public talk on November 02\, 2017\, as part of the Program on combinatorics and complexity hosted by the CMSA during AY17-18.  The talk will be at 5:00pm in Askwith Hall\, 13 Appian Way\, Cambridge\, MA. \nTitle: Network Science: From the Online World to Cancer Genomics \nAbstract: Everywhere we turn these days\, we find that networks can be used to describe relevant interactions. In the high tech world\, we see the Internet\, the World Wide Web\, mobile phone networks\, and a variety of online social networks. In economics\, we are increasingly experiencing both the positive and negative effects of a global networked economy. In epidemiology\, we find disease spreading over our ever growing social networks\, complicated by mutation of the disease agents. In biomedical research\, we are beginning to understand the structure of gene regulatory networks\, with the prospect of using this understanding to manage many human diseases. In this talk\, I look quite generally at some of the models we are using to describe these networks\, processes we are studying on the networks\, algorithms we have devised for the networks\, and finally\, methods we are developing to indirectly infer network structure from measured data. I’ll discuss in some detail particular applications to cancer genomics\, applying network algorithms to suggest possible drug targets for certain kinds of cancer. \n 
URL:https://cmsa.fas.harvard.edu/event/jennifer-chayes-public-talk-11-02-17/
LOCATION:Askwith Hall\, Harvard University
CATEGORIES:Event,Public Lecture
ATTACH;FMTTYPE=application/pdf:https://cmsa.fas.harvard.edu/media/Chayes-public-talk.pdf
END:VEVENT
END:VCALENDAR