BEGIN:VCALENDAR
VERSION:2.0
PRODID:-//CMSA - ECPv6.15.18//NONSGML v1.0//EN
CALSCALE:GREGORIAN
METHOD:PUBLISH
X-WR-CALNAME:CMSA
X-ORIGINAL-URL:https://cmsa.fas.harvard.edu
X-WR-CALDESC:Events for CMSA
REFRESH-INTERVAL;VALUE=DURATION:PT1H
X-Robots-Tag:noindex
X-PUBLISHED-TTL:PT1H
BEGIN:VTIMEZONE
TZID:America/New_York
BEGIN:DAYLIGHT
TZOFFSETFROM:-0500
TZOFFSETTO:-0400
TZNAME:EDT
DTSTART:20170312T070000
END:DAYLIGHT
BEGIN:STANDARD
TZOFFSETFROM:-0400
TZOFFSETTO:-0500
TZNAME:EST
DTSTART:20171105T060000
END:STANDARD
BEGIN:DAYLIGHT
TZOFFSETFROM:-0500
TZOFFSETTO:-0400
TZNAME:EDT
DTSTART:20180311T070000
END:DAYLIGHT
BEGIN:STANDARD
TZOFFSETFROM:-0400
TZOFFSETTO:-0500
TZNAME:EST
DTSTART:20181104T060000
END:STANDARD
BEGIN:DAYLIGHT
TZOFFSETFROM:-0500
TZOFFSETTO:-0400
TZNAME:EDT
DTSTART:20190310T070000
END:DAYLIGHT
BEGIN:STANDARD
TZOFFSETFROM:-0400
TZOFFSETTO:-0500
TZNAME:EST
DTSTART:20191103T060000
END:STANDARD
BEGIN:DAYLIGHT
TZOFFSETFROM:-0500
TZOFFSETTO:-0400
TZNAME:EDT
DTSTART:20200308T070000
END:DAYLIGHT
BEGIN:STANDARD
TZOFFSETFROM:-0400
TZOFFSETTO:-0500
TZNAME:EST
DTSTART:20201101T060000
END:STANDARD
BEGIN:DAYLIGHT
TZOFFSETFROM:-0500
TZOFFSETTO:-0400
TZNAME:EDT
DTSTART:20210314T070000
END:DAYLIGHT
BEGIN:STANDARD
TZOFFSETFROM:-0400
TZOFFSETTO:-0500
TZNAME:EST
DTSTART:20211107T060000
END:STANDARD
BEGIN:DAYLIGHT
TZOFFSETFROM:-0500
TZOFFSETTO:-0400
TZNAME:EDT
DTSTART:20220313T070000
END:DAYLIGHT
BEGIN:STANDARD
TZOFFSETFROM:-0400
TZOFFSETTO:-0500
TZNAME:EST
DTSTART:20221106T060000
END:STANDARD
BEGIN:DAYLIGHT
TZOFFSETFROM:-0500
TZOFFSETTO:-0400
TZNAME:EDT
DTSTART:20230312T070000
END:DAYLIGHT
BEGIN:STANDARD
TZOFFSETFROM:-0400
TZOFFSETTO:-0500
TZNAME:EST
DTSTART:20231105T060000
END:STANDARD
BEGIN:DAYLIGHT
TZOFFSETFROM:-0500
TZOFFSETTO:-0400
TZNAME:EDT
DTSTART:20240310T070000
END:DAYLIGHT
BEGIN:STANDARD
TZOFFSETFROM:-0400
TZOFFSETTO:-0500
TZNAME:EST
DTSTART:20241103T060000
END:STANDARD
END:VTIMEZONE
BEGIN:VEVENT
DTSTART;TZID=America/New_York:20230919T123000
DTEND;TZID=America/New_York:20230919T133000
DTSTAMP:20260417T111623
CREATED:20240223T080443Z
LAST-MODIFIED:20240223T080443Z
UID:10002832-1695126600-1695130200@cmsa.fas.harvard.edu
SUMMARY:CMSA Q and A Seminar 9/19/2023
DESCRIPTION:Speakers: Dan Freed (Harvard Math and CMSA)\, Denis Auroux (Harvard Math)
URL:https://cmsa.fas.harvard.edu/event/cmsaqa_91923/
LOCATION:Common Room\, CMSA\, 20 Garden Street\, Cambridge\, MA\, 02138\, United States
CATEGORIES:CMSA Q&A Seminar
END:VEVENT
BEGIN:VEVENT
DTSTART;TZID=America/New_York:20230418T120000
DTEND;TZID=America/New_York:20230418T130000
DTSTAMP:20260417T111623
CREATED:20230817T171352Z
LAST-MODIFIED:20240228T091907Z
UID:10001242-1681819200-1681822800@cmsa.fas.harvard.edu
SUMMARY:Recent progress on coupled Einstein-Yang-Mills dynamics
DESCRIPTION:Member Seminar \nSpeaker: Puskar Mondal \nTitle: Recent progress on coupled Einstein-Yang-Mills dynamics \nAbstract: I will discuss my recent work with prof. S.T. Yau on Einstein-Yang-Mills theory. I’ll discuss the main ideas behind the stability of the Minkowski and Milne space time under coupled gauge-gravity perturbations. Construction of the gauge invariant energies that control the suitable norms of the physical degrees of freedom in a double-null framework play an important role. I’ll sketch how the special structure of the Einstein and Yang-Mills nonlinearities play a crucial role in obtaining the stability result of non-expanding spacetimes in particular AF spacetimes.
URL:https://cmsa.fas.harvard.edu/event/member-seminar-41823/
LOCATION:Common Room\, CMSA\, 20 Garden Street\, Cambridge\, MA\, 02138\, United States
CATEGORIES:Member Seminar
END:VEVENT
BEGIN:VEVENT
DTSTART;TZID=America/New_York:20230324T163000
DTEND;TZID=America/New_York:20230324T180000
DTSTAMP:20260417T111623
CREATED:20230705T053823Z
LAST-MODIFIED:20231226T171610Z
UID:10000066-1679675400-1679680800@cmsa.fas.harvard.edu
SUMMARY:CMSA/MATH Bi-Annual Gathering
DESCRIPTION:On Friday\, March 24th\, 4:30PM – 6PM\, the CMSA will host the CMSA/MATH Bi-Annual Gathering for Harvard CMSA and Math affiliates in the Common Room at 20 Garden Street\, Cambridge MA 02138.
URL:https://cmsa.fas.harvard.edu/event/cmsa-math-bi-annual-gathering/
LOCATION:Common Room\, CMSA\, 20 Garden Street\, Cambridge\, MA\, 02138\, United States
CATEGORIES:Event
END:VEVENT
BEGIN:VEVENT
DTSTART;TZID=America/New_York:20180818T083000
DTEND;TZID=America/New_York:20180820T172000
DTSTAMP:20260417T111623
CREATED:20230715T083526Z
LAST-MODIFIED:20250304T213419Z
UID:10000084-1534581000-1534785600@cmsa.fas.harvard.edu
SUMMARY:From Algebraic Geometry to Vision and AI: A Symposium Celebrating the Mathematical Work of David Mumford
DESCRIPTION:On August 18 and 20\, 2018\, the Center of Mathematic Sciences and Applications and the Harvard University Mathematics Department hosted a conference on From Algebraic Geometry to Vision and AI: A Symposium Celebrating the Mathematical Work of David Mumford. The talks took place in Science Center\, Hall B. \nSaturday\, August 18th:  A day of talks on Vision\, AI and brain sciences \nMonday\, August 20th: a day of talks on Math \nSpeakers: \n\nStuart Geman\, Brown\nJanos Kollar\, Princeton\nTai Sing Lee\, CMU\nEmanuele Macri\, Northeastern\nJitendra Malik\, Berkeley / FAIR\nPeter Michor\, University of Vienna\nMichael Miller\, Johns Hopkins\nAaron Pixton\, MIT\nJayant Shah\, Northeastern\nJosh Tenenbaum\, MIT\nBurt Totaro\, UCLA\nAvi Wigderson\, IAS\nYing Nian Wu\, UCLA\nLaurent Younes\, Johns Hopkins\nSong-Chun Zhu\, UCLA\n\nOrganizers:\n\nChing-Li Chai\, University of Pennsylvania\nDavid Gu\, Stony Brook University\nAmnon Neeman\, Australian National University\nMark Nitzberg\, University of California at Berkeley\nYang Wang\, Hong Kong University of Science and Technology\nShing-Tung Yau\, Harvard University\nSong-Chun Zhu\, University of California\, Los Angeles\n\nPublication: \nPure and Applied Mathematics Quarterly\nSpecial Issue: In Honor of David Mumford\nGuest Editors: Ching-Li Chai\, Amnon Neeman \n 
URL:https://cmsa.fas.harvard.edu/event/from-algebraic-geometry-to-vision-and-ai-a-symposium-celebrating-the-mathematical-work-of-david-mumford/
LOCATION:Common Room\, CMSA\, 20 Garden Street\, Cambridge\, MA\, 02138\, United States
CATEGORIES:Conference,Event
ATTACH;FMTTYPE=image/png:https://cmsa.fas.harvard.edu/media/Mumford-3.png
END:VEVENT
END:VCALENDAR